BEGIN:VCALENDAR
VERSION:2.0
PRODID:-//Edgewall Software//NONSGML Trac 1.6//EN
METHOD:PUBLISH
X-WR-CALNAME:Underdog - Roadmap
X-WR-CALDESC:The underdog project
X-WR-TIMEZONE:UTC+09:00
BEGIN:VEVENT
UID:</underdog/milestone/An minor league on club activity@trac_ayo_qa/under
 dog>
DTSTAMP:20261127T010000Z
DTSTART;VALUE=DATE:20261127
SUMMARY:Milestone An minor league on club activity
URL:http://trac_ayo_qa/underdog/milestone/An%20minor%20league%20on%20club%2
 0activity
END:VEVENT
END:VCALENDAR
